BEGIN:VCALENDAR
VERSION:2.0
PRODID:-//Door County Cooperative - ECPv6.0.6.2//NONSGML v1.0//EN
CALSCALE:GREGORIAN
METHOD:PUBLISH
X-ORIGINAL-URL:https://www.doorcountycoop.com
X-WR-CALDESC:Events for Door County Cooperative
REFRESH-INTERVAL;VALUE=DURATION:PT1H
X-Robots-Tag:noindex
X-PUBLISHED-TTL:PT1H
BEGIN:VTIMEZONE
TZID:UTC
BEGIN:STANDARD
TZOFFSETFROM:+0000
TZOFFSETTO:+0000
TZNAME:UTC
DTSTART:20180101T000000
END:STANDARD
END:VTIMEZONE
BEGIN:VEVENT
DTSTART;TZID=UTC:20180411T180000
DTEND;TZID=UTC:20180411T200000
DTSTAMP:20260425T072643
CREATED:20171207T141233Z
LAST-MODIFIED:20171222T234104Z
UID:234-1523469600-1523476800@www.doorcountycoop.com
SUMMARY:Composting and Rain Barrels Seminar
DESCRIPTION:Compost and rain barrels are an environmentally safe ways to take advantage of our natural resources. Learn how to lessen your ecological footprint and contribute to the beauty of Door County.
URL:https://www.doorcountycoop.com/event/composting-and-rain-barrels-seminar/
LOCATION:The Country Store
CATEGORIES:Join The Fun
END:VEVENT
END:VCALENDAR