BEGIN:VCALENDAR
VERSION:2.0
PRODID:-//Door County Cooperative - ECPv6.0.6.2//NONSGML v1.0//EN
CALSCALE:GREGORIAN
METHOD:PUBLISH
X-ORIGINAL-URL:https://www.doorcountycoop.com
X-WR-CALDESC:Events for Door County Cooperative
REFRESH-INTERVAL;VALUE=DURATION:PT1H
X-Robots-Tag:noindex
X-PUBLISHED-TTL:PT1H
BEGIN:VTIMEZONE
TZID:UTC
BEGIN:STANDARD
TZOFFSETFROM:+0000
TZOFFSETTO:+0000
TZNAME:UTC
DTSTART:20180101T000000
END:STANDARD
END:VTIMEZONE
BEGIN:VEVENT
DTSTART;TZID=UTC:20180421T070000
DTEND;TZID=UTC:20180421T110000
DTSTAMP:20260425T072608
CREATED:20180404T212959Z
LAST-MODIFIED:20180404T212959Z
UID:517-1524294000-1524308400@www.doorcountycoop.com
SUMMARY:Small Animal Sale & Swap - Presented by Door County 4-H
DESCRIPTION:Rain or Shine join Door County 4-H at the 16th Annual Small Animal Sale & Swap on April 21st\, starting at 7:00 am. The sale and swap will be taking place at the Door County Cooperative Country Store and True Value. \nThe cost is $2 per person at the door whether you are buying or selling. Everyone is welcome to attend this event and hot beverages will be served. \nPullorum Testing is also available on site. Health papers for ALL species are required to meet state and federal regulations. \nIf you are interested in selling your small animals or have any questions please contact Mike at (920) 825-7693 or (920) 737-1741. \n***The Small Animal Committee reserves the right to refuse any exhibit.***
URL:https://www.doorcountycoop.com/event/small-animal-sale-swap-presented-by-door-county-4-h/
CATEGORIES:Join The Fun
END:VEVENT
END:VCALENDAR