BEGIN:VCALENDAR
VERSION:2.0
PRODID:-//Door County Cooperative - ECPv6.0.6.2//NONSGML v1.0//EN
CALSCALE:GREGORIAN
METHOD:PUBLISH
X-ORIGINAL-URL:https://www.doorcountycoop.com
X-WR-CALDESC:Events for Door County Cooperative
REFRESH-INTERVAL;VALUE=DURATION:PT1H
X-Robots-Tag:noindex
X-PUBLISHED-TTL:PT1H
BEGIN:VTIMEZONE
TZID:UTC
BEGIN:STANDARD
TZOFFSETFROM:+0000
TZOFFSETTO:+0000
TZNAME:UTC
DTSTART:20180101T000000
END:STANDARD
END:VTIMEZONE
BEGIN:VEVENT
DTSTART;TZID=UTC:20180929T100000
DTEND;TZID=UTC:20180929T140000
DTSTAMP:20260424T220443
CREATED:20180809T232843Z
LAST-MODIFIED:20180820T215257Z
UID:597-1538215200-1538229600@www.doorcountycoop.com
SUMMARY:THE Pet Event
DESCRIPTION:THE Pet Event Presented by the Door County Cooperative Country Store Returns! \nCalling all pet parents\, pet families\, and pet enthusiasts to THE Pet Event presented by the Door County Cooperative Country Store on Saturday\, September 29\, 2018 from 10 a.m. to 2 p.m. \nTo thank our amazing customers\, we will have popular name-brand feed and food for livestock\, hobby farm animals\, and household pets on sale for incredible prices during THE Pet Event. Save $12 on a 30-pound bag of Blue Buffalo Adult Dog Food and receive $8 off a 40-pound bag of Black Oil Sunflower Birdseed. Other sale items include Eco Flake Natural Animal Bedding\, Deer Mix\, Meow Mix Cat Food\, Taste of The Wild Dog Food and more. Supplies will be limited so make your way to THE Pet Evet early to take advantage of these ONE DAY prices. \nTHE Pet Event isn’t complete without pets to pet. The Rusty Acres Petting Zoo will be bringing some of their favorite friendly mini barnyard friends for you to pet and adore. If you are looking at adding to your family\, the Wisconsin Humane Society Door County Campus will be holding a cat and kitten adoption during THE Pet Event. \nDress your pet in its finest outfit because Michael Marit Photography will be on site taking pet portraits for a $5 donation to the Wisconsin Humane Society Door County Campus. \nStop by and find out how doTerra Essential Oils can be used with your pets. \nPlus\, Door County’s own pet psychic\, Gale Ritchey and Hope from Hopeful Paws Dog Training will also be at the event helping owners understand their furry friends. \nIf you get hungry Girl Scout Troop 4338 will take care of you. They will be holding a brat fry fundraiser for event goers. \nMark your calendar and bring your entire family as well as your friendly\, leashed dogs to THE Pet Event at the Door County Cooperative Country Store on September 29\, 2018 from 10 a.m. to 2 p.m. at The Door County Cooperative Country Store next to Door County True Value at 317 Green Bay Road in Sturgeon Bay. For more information check out the Door County True Value & Country Store Facebook page or visit DoorCountyCountryStore.com or DoorCountyTrueVaule.com. \nThe Country Store is a proud division of the Door County Cooperative. \n  \n  \n 
URL:https://www.doorcountycoop.com/event/the-pet-event/
LOCATION:The Country Store
CATEGORIES:Join The Fun
ATTACH;FMTTYPE=application/pdf:https://www.doorcountycoop.com/wp-content/uploads/2018/08/The-Pet-Event-Buck-Slip-071118.pdf
END:VEVENT
END:VCALENDAR